BEGIN:VCALENDAR
VERSION:2.0
PRODID:SchoolNow
CALSCALE:GREGORIAN
BEGIN:VEVENT
UID:e1670c38-5297-11f0-acc2-0a58a9feac02
DTSTAMP:20250626T141432Z
SUMMARY:Fall Break
URL;VALUE=URI:https://www.lowndes.k12.ms.us/schools/ces/calendar/8356018/fa
 ll-break
DTSTART;VALUE=DATE:20251006
DTEND;VALUE=DATE:20251011
END:VEVENT
END:VCALENDAR
